BEGIN:VCALENDAR
VERSION:2.0
PRODID:-//Centre Multi Loisirs Sherbrooke - ECPv6.10.2//NONSGML v1.0//EN
CALSCALE:GREGORIAN
METHOD:PUBLISH
X-WR-CALNAME:Centre Multi Loisirs Sherbrooke
X-ORIGINAL-URL:https://loisirsherbrooke.com
X-WR-CALDESC:évènements pour Centre Multi Loisirs Sherbrooke
REFRESH-INTERVAL;VALUE=DURATION:PT1H
X-Robots-Tag:noindex
X-PUBLISHED-TTL:PT1H
BEGIN:VTIMEZONE
TZID:America/New_York
BEGIN:DAYLIGHT
TZOFFSETFROM:-0500
TZOFFSETTO:-0400
TZNAME:EDT
DTSTART:20250309T070000
END:DAYLIGHT
BEGIN:STANDARD
TZOFFSETFROM:-0400
TZOFFSETTO:-0500
TZNAME:EST
DTSTART:20251102T060000
END:STANDARD
END:VTIMEZONE
BEGIN:VEVENT
DTSTART;TZID=America/New_York:20250926T090000
DTEND;TZID=America/New_York:20250926T120000
DTSTAMP:20260425T225742
CREATED:20250827T132624Z
LAST-MODIFIED:20250827T132641Z
UID:10000535-1758877200-1758888000@loisirsherbrooke.com
SUMMARY:Donnerie
DESCRIPTION:
URL:https://loisirsherbrooke.com/activite/donnerie-26-sept-2025/
LOCATION:Centre Multi Loisirs Sherbrooke\, 1010\, rue Fairmount\, Sherbrooke\, Québec\, J1H 3N3\, Canada
GEO:45.390887;-71.902319
X-APPLE-STRUCTURED-LOCATION;VALUE=URI;X-ADDRESS=Centre Multi Loisirs Sherbrooke 1010 rue Fairmount Sherbrooke Québec J1H 3N3 Canada;X-APPLE-RADIUS=500;X-TITLE=1010\, rue Fairmount:geo:-71.902319,45.390887
END:VEVENT
BEGIN:VEVENT
DTSTART;TZID=America/New_York:20250925T090000
DTEND;TZID=America/New_York:20250925T170000
DTSTAMP:20260425T225742
CREATED:20250827T132450Z
LAST-MODIFIED:20250827T132509Z
UID:10000534-1758790800-1758819600@loisirsherbrooke.com
SUMMARY:Donnerie
DESCRIPTION:
URL:https://loisirsherbrooke.com/activite/donnerie-25-sept-2025/
LOCATION:Centre Multi Loisirs Sherbrooke\, 1010\, rue Fairmount\, Sherbrooke\, Québec\, J1H 3N3\, Canada
GEO:45.390887;-71.902319
X-APPLE-STRUCTURED-LOCATION;VALUE=URI;X-ADDRESS=Centre Multi Loisirs Sherbrooke 1010 rue Fairmount Sherbrooke Québec J1H 3N3 Canada;X-APPLE-RADIUS=500;X-TITLE=1010\, rue Fairmount:geo:-71.902319,45.390887
END:VEVENT
BEGIN:VEVENT
DTSTART;TZID=America/New_York:20250924T100000
DTEND;TZID=America/New_York:20250924T170000
DTSTAMP:20260425T225742
CREATED:20250827T132349Z
LAST-MODIFIED:20250827T132407Z
UID:10000533-1758708000-1758733200@loisirsherbrooke.com
SUMMARY:Donnerie
DESCRIPTION:
URL:https://loisirsherbrooke.com/activite/donnerie-24-sept-2025/
LOCATION:Centre Multi Loisirs Sherbrooke\, 1010\, rue Fairmount\, Sherbrooke\, Québec\, J1H 3N3\, Canada
GEO:45.390887;-71.902319
X-APPLE-STRUCTURED-LOCATION;VALUE=URI;X-ADDRESS=Centre Multi Loisirs Sherbrooke 1010 rue Fairmount Sherbrooke Québec J1H 3N3 Canada;X-APPLE-RADIUS=500;X-TITLE=1010\, rue Fairmount:geo:-71.902319,45.390887
END:VEVENT
BEGIN:VEVENT
DTSTART;TZID=America/New_York:20250915T183000
DTEND;TZID=America/New_York:20250917T163000
DTSTAMP:20260425T225742
CREATED:20250812T145845Z
LAST-MODIFIED:20250812T145845Z
UID:10000522-1757961000-1758126600@loisirsherbrooke.com
SUMMARY:Semaine d’initiation aux activités
DESCRIPTION:
URL:https://loisirsherbrooke.com/activite/semaine-dinitiation-aux-activites/
LOCATION:Centre Multi Loisirs Sherbrooke\, 1010\, rue Fairmount\, Sherbrooke\, Québec\, J1H 3N3\, Canada
GEO:45.390887;-71.902319
X-APPLE-STRUCTURED-LOCATION;VALUE=URI;X-ADDRESS=Centre Multi Loisirs Sherbrooke 1010 rue Fairmount Sherbrooke Québec J1H 3N3 Canada;X-APPLE-RADIUS=500;X-TITLE=1010\, rue Fairmount:geo:-71.902319,45.390887
END:VEVENT
BEGIN:VEVENT
DTSTART;TZID=America/New_York:20250912T090000
DTEND;TZID=America/New_York:20250912T120000
DTSTAMP:20260425T225742
CREATED:20250623T143811Z
LAST-MODIFIED:20250623T143920Z
UID:10000519-1757667600-1757678400@loisirsherbrooke.com
SUMMARY:Vendredis café-rencontre – Initiation au pickleball
DESCRIPTION:
URL:https://loisirsherbrooke.com/activite/pickleball-12-sept-2025/
LOCATION:Centre Multi Loisirs Sherbrooke\, 1010\, rue Fairmount\, Sherbrooke\, Québec\, J1H 3N3\, Canada
GEO:45.390887;-71.902319
X-APPLE-STRUCTURED-LOCATION;VALUE=URI;X-ADDRESS=Centre Multi Loisirs Sherbrooke 1010 rue Fairmount Sherbrooke Québec J1H 3N3 Canada;X-APPLE-RADIUS=500;X-TITLE=1010\, rue Fairmount:geo:-71.902319,45.390887
END:VEVENT
BEGIN:VEVENT
DTSTART;TZID=America/New_York:20250905T090000
DTEND;TZID=America/New_York:20250905T120000
DTSTAMP:20260425T225742
CREATED:20250623T143651Z
LAST-MODIFIED:20250623T143723Z
UID:10000518-1757062800-1757073600@loisirsherbrooke.com
SUMMARY:Vendredis café-rencontre – Initiation au pickleball
DESCRIPTION:
URL:https://loisirsherbrooke.com/activite/pickleball-5-sept-2025/
LOCATION:Centre Multi Loisirs Sherbrooke\, 1010\, rue Fairmount\, Sherbrooke\, Québec\, J1H 3N3\, Canada
GEO:45.390887;-71.902319
X-APPLE-STRUCTURED-LOCATION;VALUE=URI;X-ADDRESS=Centre Multi Loisirs Sherbrooke 1010 rue Fairmount Sherbrooke Québec J1H 3N3 Canada;X-APPLE-RADIUS=500;X-TITLE=1010\, rue Fairmount:geo:-71.902319,45.390887
END:VEVENT
BEGIN:VEVENT
DTSTART;TZID=America/New_York:20250822T090000
DTEND;TZID=America/New_York:20250822T120000
DTSTAMP:20260425T225742
CREATED:20250623T143316Z
LAST-MODIFIED:20250704T152650Z
UID:10000516-1755853200-1755864000@loisirsherbrooke.com
SUMMARY:Vendredis café-rencontre – Quilles
DESCRIPTION:
URL:https://loisirsherbrooke.com/activite/quilles-22-aout-2025/
LOCATION:Centre Multi Loisirs Sherbrooke\, 1010\, rue Fairmount\, Sherbrooke\, Québec\, J1H 3N3\, Canada
GEO:45.390887;-71.902319
X-APPLE-STRUCTURED-LOCATION;VALUE=URI;X-ADDRESS=Centre Multi Loisirs Sherbrooke 1010 rue Fairmount Sherbrooke Québec J1H 3N3 Canada;X-APPLE-RADIUS=500;X-TITLE=1010\, rue Fairmount:geo:-71.902319,45.390887
END:VEVENT
BEGIN:VEVENT
DTSTART;TZID=America/New_York:20250819T100000
DTEND;TZID=America/New_York:20250819T163000
DTSTAMP:20260425T225742
CREATED:20250812T145222Z
LAST-MODIFIED:20250812T145521Z
UID:10000521-1755597600-1755621000@loisirsherbrooke.com
SUMMARY:Début des inscriptions à la programmation automne 2025
DESCRIPTION:
URL:https://loisirsherbrooke.com/activite/inscriptions-automne2025/
LOCATION:Centre Multi Loisirs Sherbrooke\, 1010\, rue Fairmount\, Sherbrooke\, Québec\, J1H 3N3\, Canada
GEO:45.390887;-71.902319
X-APPLE-STRUCTURED-LOCATION;VALUE=URI;X-ADDRESS=Centre Multi Loisirs Sherbrooke 1010 rue Fairmount Sherbrooke Québec J1H 3N3 Canada;X-APPLE-RADIUS=500;X-TITLE=1010\, rue Fairmount:geo:-71.902319,45.390887
END:VEVENT
BEGIN:VEVENT
DTSTART;TZID=America/New_York:20250815T090000
DTEND;TZID=America/New_York:20250815T120000
DTSTAMP:20260425T225742
CREATED:20250623T143059Z
LAST-MODIFIED:20250623T143200Z
UID:10000515-1755248400-1755259200@loisirsherbrooke.com
SUMMARY:Vendredis café-rencontre – Initiation au frisbee
DESCRIPTION:
URL:https://loisirsherbrooke.com/activite/frisbee-15-aout-2025/
LOCATION:Centre Multi Loisirs Sherbrooke\, 1010\, rue Fairmount\, Sherbrooke\, Québec\, J1H 3N3\, Canada
GEO:45.390887;-71.902319
X-APPLE-STRUCTURED-LOCATION;VALUE=URI;X-ADDRESS=Centre Multi Loisirs Sherbrooke 1010 rue Fairmount Sherbrooke Québec J1H 3N3 Canada;X-APPLE-RADIUS=500;X-TITLE=1010\, rue Fairmount:geo:-71.902319,45.390887
END:VEVENT
BEGIN:VEVENT
DTSTART;TZID=America/New_York:20250801T090000
DTEND;TZID=America/New_York:20250801T120000
DTSTAMP:20260425T225742
CREATED:20250623T142228Z
LAST-MODIFIED:20250623T142254Z
UID:10000513-1754038800-1754049600@loisirsherbrooke.com
SUMMARY:Vendredis café-rencontre – Quilles
DESCRIPTION:
URL:https://loisirsherbrooke.com/activite/quilles-1-aout-2025/
LOCATION:Centre Multi Loisirs Sherbrooke\, 1010\, rue Fairmount\, Sherbrooke\, Québec\, J1H 3N3\, Canada
GEO:45.390887;-71.902319
X-APPLE-STRUCTURED-LOCATION;VALUE=URI;X-ADDRESS=Centre Multi Loisirs Sherbrooke 1010 rue Fairmount Sherbrooke Québec J1H 3N3 Canada;X-APPLE-RADIUS=500;X-TITLE=1010\, rue Fairmount:geo:-71.902319,45.390887
END:VEVENT
BEGIN:VEVENT
DTSTART;TZID=America/New_York:20250725T090000
DTEND;TZID=America/New_York:20250725T120000
DTSTAMP:20260425T225742
CREATED:20250623T142036Z
LAST-MODIFIED:20250623T142110Z
UID:10000512-1753434000-1753444800@loisirsherbrooke.com
SUMMARY:Vendredis café-rencontre – Quilles
DESCRIPTION:
URL:https://loisirsherbrooke.com/activite/quilles-25-juillet-2025/
LOCATION:Centre Multi Loisirs Sherbrooke\, 1010\, rue Fairmount\, Sherbrooke\, Québec\, J1H 3N3\, Canada
GEO:45.390887;-71.902319
X-APPLE-STRUCTURED-LOCATION;VALUE=URI;X-ADDRESS=Centre Multi Loisirs Sherbrooke 1010 rue Fairmount Sherbrooke Québec J1H 3N3 Canada;X-APPLE-RADIUS=500;X-TITLE=1010\, rue Fairmount:geo:-71.902319,45.390887
END:VEVENT
BEGIN:VEVENT
DTSTART;TZID=America/New_York:20250718T090000
DTEND;TZID=America/New_York:20250718T120000
DTSTAMP:20260425T225742
CREATED:20250623T141844Z
LAST-MODIFIED:20250623T141924Z
UID:10000511-1752829200-1752840000@loisirsherbrooke.com
SUMMARY:Vendredis café-rencontre – Jeux de société libres
DESCRIPTION:
URL:https://loisirsherbrooke.com/activite/jeux-18-juillet-2025/
LOCATION:Centre Multi Loisirs Sherbrooke\, 1010\, rue Fairmount\, Sherbrooke\, Québec\, J1H 3N3\, Canada
GEO:45.390887;-71.902319
X-APPLE-STRUCTURED-LOCATION;VALUE=URI;X-ADDRESS=Centre Multi Loisirs Sherbrooke 1010 rue Fairmount Sherbrooke Québec J1H 3N3 Canada;X-APPLE-RADIUS=500;X-TITLE=1010\, rue Fairmount:geo:-71.902319,45.390887
END:VEVENT
BEGIN:VEVENT
DTSTART;TZID=America/New_York:20250711T090000
DTEND;TZID=America/New_York:20250711T120000
DTSTAMP:20260425T225742
CREATED:20250623T141706Z
LAST-MODIFIED:20250623T141733Z
UID:10000510-1752224400-1752235200@loisirsherbrooke.com
SUMMARY:Vendredis café-rencontre – Jeux de société libres
DESCRIPTION:
URL:https://loisirsherbrooke.com/activite/jeux-11-juillet-2025/
LOCATION:Centre Multi Loisirs Sherbrooke\, 1010\, rue Fairmount\, Sherbrooke\, Québec\, J1H 3N3\, Canada
GEO:45.390887;-71.902319
X-APPLE-STRUCTURED-LOCATION;VALUE=URI;X-ADDRESS=Centre Multi Loisirs Sherbrooke 1010 rue Fairmount Sherbrooke Québec J1H 3N3 Canada;X-APPLE-RADIUS=500;X-TITLE=1010\, rue Fairmount:geo:-71.902319,45.390887
END:VEVENT
BEGIN:VEVENT
DTSTART;TZID=America/New_York:20250603T100000
DTEND;TZID=America/New_York:20250603T160000
DTSTAMP:20260425T225742
CREATED:20250528T181607Z
LAST-MODIFIED:20250528T181628Z
UID:10000503-1748944800-1748966400@loisirsherbrooke.com
SUMMARY:Collecte de sang Héma-Québec
DESCRIPTION:
URL:https://loisirsherbrooke.com/activite/collecte-3-juin-2025/
LOCATION:Centre Multi Loisirs Sherbrooke\, 1010\, rue Fairmount\, Sherbrooke\, Québec\, J1H 3N3\, Canada
GEO:45.390887;-71.902319
X-APPLE-STRUCTURED-LOCATION;VALUE=URI;X-ADDRESS=Centre Multi Loisirs Sherbrooke 1010 rue Fairmount Sherbrooke Québec J1H 3N3 Canada;X-APPLE-RADIUS=500;X-TITLE=1010\, rue Fairmount:geo:-71.902319,45.390887
END:VEVENT
BEGIN:VEVENT
DTSTART;TZID=America/New_York:20250523T190000
DTEND;TZID=America/New_York:20250523T210000
DTSTAMP:20260425T225742
CREATED:20250224T144536Z
LAST-MODIFIED:20250224T144554Z
UID:10000469-1748026800-1748034000@loisirsherbrooke.com
SUMMARY:Soirée cinéma en famille
DESCRIPTION:
URL:https://loisirsherbrooke.com/activite/cinema-23-mai-2025/
LOCATION:Centre Multi Loisirs Sherbrooke\, 1010\, rue Fairmount\, Sherbrooke\, Québec\, J1H 3N3\, Canada
GEO:45.390887;-71.902319
X-APPLE-STRUCTURED-LOCATION;VALUE=URI;X-ADDRESS=Centre Multi Loisirs Sherbrooke 1010 rue Fairmount Sherbrooke Québec J1H 3N3 Canada;X-APPLE-RADIUS=500;X-TITLE=1010\, rue Fairmount:geo:-71.902319,45.390887
END:VEVENT
BEGIN:VEVENT
DTSTART;TZID=America/New_York:20250511T140000
DTEND;TZID=America/New_York:20250511T170000
DTSTAMP:20260425T225742
CREATED:20250224T150146Z
LAST-MODIFIED:20250224T150211Z
UID:10000476-1746972000-1746982800@loisirsherbrooke.com
SUMMARY:2 à 5 en famille – quilles gratuites (spécial fête des Mères)
DESCRIPTION:
URL:https://loisirsherbrooke.com/activite/2a5-11-mai-2025/
LOCATION:Centre Multi Loisirs Sherbrooke\, 1010\, rue Fairmount\, Sherbrooke\, Québec\, J1H 3N3\, Canada
GEO:45.390887;-71.902319
X-APPLE-STRUCTURED-LOCATION;VALUE=URI;X-ADDRESS=Centre Multi Loisirs Sherbrooke 1010 rue Fairmount Sherbrooke Québec J1H 3N3 Canada;X-APPLE-RADIUS=500;X-TITLE=1010\, rue Fairmount:geo:-71.902319,45.390887
END:VEVENT
BEGIN:VEVENT
DTSTART;TZID=America/New_York:20250503T090000
DTEND;TZID=America/New_York:20250503T120000
DTSTAMP:20260425T225742
CREATED:20250224T145756Z
LAST-MODIFIED:20250224T145815Z
UID:10000474-1746262800-1746273600@loisirsherbrooke.com
SUMMARY:Matinée des grands-parents – quilles gratuites
DESCRIPTION:
URL:https://loisirsherbrooke.com/activite/matinee-gp-3-mai-2025/
LOCATION:Centre Multi Loisirs Sherbrooke\, 1010\, rue Fairmount\, Sherbrooke\, Québec\, J1H 3N3\, Canada
GEO:45.390887;-71.902319
X-APPLE-STRUCTURED-LOCATION;VALUE=URI;X-ADDRESS=Centre Multi Loisirs Sherbrooke 1010 rue Fairmount Sherbrooke Québec J1H 3N3 Canada;X-APPLE-RADIUS=500;X-TITLE=1010\, rue Fairmount:geo:-71.902319,45.390887
END:VEVENT
BEGIN:VEVENT
DTSTART;TZID=America/New_York:20250426T183000
DTEND;TZID=America/New_York:20250426T210000
DTSTAMP:20260425T225742
CREATED:20250224T144946Z
LAST-MODIFIED:20250224T145004Z
UID:10000470-1745692200-1745701200@loisirsherbrooke.com
SUMMARY:Disco – bal masqué (pour les 8 à 12 ans)
DESCRIPTION:
URL:https://loisirsherbrooke.com/activite/disco-26-avril-2025/
LOCATION:Centre Multi Loisirs Sherbrooke\, 1010\, rue Fairmount\, Sherbrooke\, Québec\, J1H 3N3\, Canada
GEO:45.390887;-71.902319
X-APPLE-STRUCTURED-LOCATION;VALUE=URI;X-ADDRESS=Centre Multi Loisirs Sherbrooke 1010 rue Fairmount Sherbrooke Québec J1H 3N3 Canada;X-APPLE-RADIUS=500;X-TITLE=1010\, rue Fairmount:geo:-71.902319,45.390887
END:VEVENT
BEGIN:VEVENT
DTSTART;TZID=America/New_York:20250425T190000
DTEND;TZID=America/New_York:20250425T210000
DTSTAMP:20260425T225742
CREATED:20250224T144338Z
LAST-MODIFIED:20250224T144402Z
UID:10000468-1745607600-1745614800@loisirsherbrooke.com
SUMMARY:Soirée cinéma en famille
DESCRIPTION:
URL:https://loisirsherbrooke.com/activite/cinema-25-avril-2025/
LOCATION:Centre Multi Loisirs Sherbrooke\, 1010\, rue Fairmount\, Sherbrooke\, Québec\, J1H 3N3\, Canada
GEO:45.390887;-71.902319
X-APPLE-STRUCTURED-LOCATION;VALUE=URI;X-ADDRESS=Centre Multi Loisirs Sherbrooke 1010 rue Fairmount Sherbrooke Québec J1H 3N3 Canada;X-APPLE-RADIUS=500;X-TITLE=1010\, rue Fairmount:geo:-71.902319,45.390887
END:VEVENT
BEGIN:VEVENT
DTSTART;TZID=America/New_York:20250422T160000
DTEND;TZID=America/New_York:20250422T170000
DTSTAMP:20260425T225742
CREATED:20250224T145418Z
LAST-MODIFIED:20250224T145418Z
UID:10000472-1745337600-1745341200@loisirsherbrooke.com
SUMMARY:Activité de nettoyage communautaire
DESCRIPTION:
URL:https://loisirsherbrooke.com/activite/nettoyage-22-avril-2025/
LOCATION:Centre Multi Loisirs Sherbrooke\, 1010\, rue Fairmount\, Sherbrooke\, Québec\, J1H 3N3\, Canada
GEO:45.390887;-71.902319
X-APPLE-STRUCTURED-LOCATION;VALUE=URI;X-ADDRESS=Centre Multi Loisirs Sherbrooke 1010 rue Fairmount Sherbrooke Québec J1H 3N3 Canada;X-APPLE-RADIUS=500;X-TITLE=1010\, rue Fairmount:geo:-71.902319,45.390887
END:VEVENT
BEGIN:VEVENT
DTSTART;TZID=America/New_York:20250413T140000
DTEND;TZID=America/New_York:20250413T170000
DTSTAMP:20260425T225742
CREATED:20250224T145939Z
LAST-MODIFIED:20250224T150017Z
UID:10000475-1744552800-1744563600@loisirsherbrooke.com
SUMMARY:2 à 5 en famille – quilles gratuites (spécial Pâques)
DESCRIPTION:
URL:https://loisirsherbrooke.com/activite/2a5-13-avril-2025/
LOCATION:Centre Multi Loisirs Sherbrooke\, 1010\, rue Fairmount\, Sherbrooke\, Québec\, J1H 3N3\, Canada
GEO:45.390887;-71.902319
X-APPLE-STRUCTURED-LOCATION;VALUE=URI;X-ADDRESS=Centre Multi Loisirs Sherbrooke 1010 rue Fairmount Sherbrooke Québec J1H 3N3 Canada;X-APPLE-RADIUS=500;X-TITLE=1010\, rue Fairmount:geo:-71.902319,45.390887
END:VEVENT
BEGIN:VEVENT
DTSTART;TZID=America/New_York:20250405T090000
DTEND;TZID=America/New_York:20250405T120000
DTSTAMP:20260425T225742
CREATED:20250224T145638Z
LAST-MODIFIED:20250224T145657Z
UID:10000473-1743843600-1743854400@loisirsherbrooke.com
SUMMARY:Matinée des grands-parents – quilles gratuites
DESCRIPTION:
URL:https://loisirsherbrooke.com/activite/matinee-gp-5-avril-2025/
LOCATION:Centre Multi Loisirs Sherbrooke\, 1010\, rue Fairmount\, Sherbrooke\, Québec\, J1H 3N3\, Canada
GEO:45.390887;-71.902319
X-APPLE-STRUCTURED-LOCATION;VALUE=URI;X-ADDRESS=Centre Multi Loisirs Sherbrooke 1010 rue Fairmount Sherbrooke Québec J1H 3N3 Canada;X-APPLE-RADIUS=500;X-TITLE=1010\, rue Fairmount:geo:-71.902319,45.390887
END:VEVENT
BEGIN:VEVENT
DTSTART;TZID=America/New_York:20250321T183000
DTEND;TZID=America/New_York:20250321T210000
DTSTAMP:20260425T225742
CREATED:20241212T143141Z
LAST-MODIFIED:20250219T204354Z
UID:10000451-1742581800-1742590800@loisirsherbrooke.com
SUMMARY:Soirée cinéma en famille
DESCRIPTION:
URL:https://loisirsherbrooke.com/activite/cinema-21-mars-2025/
LOCATION:Centre Multi Loisirs Sherbrooke\, 1010\, rue Fairmount\, Sherbrooke\, Québec\, J1H 3N3\, Canada
GEO:45.390887;-71.902319
X-APPLE-STRUCTURED-LOCATION;VALUE=URI;X-ADDRESS=Centre Multi Loisirs Sherbrooke 1010 rue Fairmount Sherbrooke Québec J1H 3N3 Canada;X-APPLE-RADIUS=500;X-TITLE=1010\, rue Fairmount:geo:-71.902319,45.390887
END:VEVENT
BEGIN:VEVENT
DTSTART;TZID=America/New_York:20250316T140000
DTEND;TZID=America/New_York:20250316T170000
DTSTAMP:20260425T225742
CREATED:20241211T211627Z
LAST-MODIFIED:20241211T211653Z
UID:10000445-1742133600-1742144400@loisirsherbrooke.com
SUMMARY:2 à 5 en famille – quilles gratuites
DESCRIPTION:
URL:https://loisirsherbrooke.com/activite/2a5-16-mars-2025/
LOCATION:Centre Multi Loisirs Sherbrooke\, 1010\, rue Fairmount\, Sherbrooke\, Québec\, J1H 3N3\, Canada
GEO:45.390887;-71.902319
X-APPLE-STRUCTURED-LOCATION;VALUE=URI;X-ADDRESS=Centre Multi Loisirs Sherbrooke 1010 rue Fairmount Sherbrooke Québec J1H 3N3 Canada;X-APPLE-RADIUS=500;X-TITLE=1010\, rue Fairmount:geo:-71.902319,45.390887
END:VEVENT
BEGIN:VEVENT
DTSTART;TZID=America/New_York:20250308T090000
DTEND;TZID=America/New_York:20250308T120000
DTSTAMP:20260425T225742
CREATED:20241211T211116Z
LAST-MODIFIED:20241211T211151Z
UID:10000442-1741424400-1741435200@loisirsherbrooke.com
SUMMARY:Matinée des grands-parents – quilles gratuites
DESCRIPTION:
URL:https://loisirsherbrooke.com/activite/matinee-gp-8-mars-2025/
LOCATION:Centre Multi Loisirs Sherbrooke\, 1010\, rue Fairmount\, Sherbrooke\, Québec\, J1H 3N3\, Canada
GEO:45.390887;-71.902319
X-APPLE-STRUCTURED-LOCATION;VALUE=URI;X-ADDRESS=Centre Multi Loisirs Sherbrooke 1010 rue Fairmount Sherbrooke Québec J1H 3N3 Canada;X-APPLE-RADIUS=500;X-TITLE=1010\, rue Fairmount:geo:-71.902319,45.390887
END:VEVENT
BEGIN:VEVENT
DTSTART;VALUE=DATE:20250303
DTEND;VALUE=DATE:20250308
DTSTAMP:20260425T225742
CREATED:20250219T211625Z
LAST-MODIFIED:20250219T211625Z
UID:10000466-1740960000-1741391999@loisirsherbrooke.com
SUMMARY:Camp de la relâche scolaire
DESCRIPTION:
URL:https://loisirsherbrooke.com/activite/relache2025/
LOCATION:Centre Multi Loisirs Sherbrooke\, 1010\, rue Fairmount\, Sherbrooke\, Québec\, J1H 3N3\, Canada
GEO:45.390887;-71.902319
X-APPLE-STRUCTURED-LOCATION;VALUE=URI;X-ADDRESS=Centre Multi Loisirs Sherbrooke 1010 rue Fairmount Sherbrooke Québec J1H 3N3 Canada;X-APPLE-RADIUS=500;X-TITLE=1010\, rue Fairmount:geo:-71.902319,45.390887
END:VEVENT
BEGIN:VEVENT
DTSTART;TZID=America/New_York:20250227T090000
DTEND;TZID=America/New_York:20250227T160000
DTSTAMP:20260425T225742
CREATED:20241212T151253Z
LAST-MODIFIED:20241212T151321Z
UID:10000456-1740646800-1740672000@loisirsherbrooke.com
SUMMARY:Donnerie
DESCRIPTION:
URL:https://loisirsherbrooke.com/activite/donnerie-27-fev-2025/
LOCATION:Centre Multi Loisirs Sherbrooke\, 1010\, rue Fairmount\, Sherbrooke\, Québec\, J1H 3N3\, Canada
GEO:45.390887;-71.902319
X-APPLE-STRUCTURED-LOCATION;VALUE=URI;X-ADDRESS=Centre Multi Loisirs Sherbrooke 1010 rue Fairmount Sherbrooke Québec J1H 3N3 Canada;X-APPLE-RADIUS=500;X-TITLE=1010\, rue Fairmount:geo:-71.902319,45.390887
END:VEVENT
BEGIN:VEVENT
DTSTART;TZID=America/New_York:20250225T100000
DTEND;TZID=America/New_York:20250225T163000
DTSTAMP:20260425T225742
CREATED:20250221T212707Z
LAST-MODIFIED:20250221T212707Z
UID:10000467-1740477600-1740501000@loisirsherbrooke.com
SUMMARY:Début des inscriptions à la session Printemps 2025
DESCRIPTION:
URL:https://loisirsherbrooke.com/activite/inscriptions-printemps2025/
LOCATION:Centre Multi Loisirs Sherbrooke\, 1010\, rue Fairmount\, Sherbrooke\, Québec\, J1H 3N3\, Canada
GEO:45.390887;-71.902319
X-APPLE-STRUCTURED-LOCATION;VALUE=URI;X-ADDRESS=Centre Multi Loisirs Sherbrooke 1010 rue Fairmount Sherbrooke Québec J1H 3N3 Canada;X-APPLE-RADIUS=500;X-TITLE=1010\, rue Fairmount:geo:-71.902319,45.390887
END:VEVENT
BEGIN:VEVENT
DTSTART;TZID=America/New_York:20250221T183000
DTEND;TZID=America/New_York:20250221T210000
DTSTAMP:20260425T225742
CREATED:20241212T142758Z
LAST-MODIFIED:20250219T204319Z
UID:10000450-1740162600-1740171600@loisirsherbrooke.com
SUMMARY:Soirée cinéma en famille
DESCRIPTION:
URL:https://loisirsherbrooke.com/activite/cinema-21-fev-2025/
LOCATION:Centre Multi Loisirs Sherbrooke\, 1010\, rue Fairmount\, Sherbrooke\, Québec\, J1H 3N3\, Canada
GEO:45.390887;-71.902319
X-APPLE-STRUCTURED-LOCATION;VALUE=URI;X-ADDRESS=Centre Multi Loisirs Sherbrooke 1010 rue Fairmount Sherbrooke Québec J1H 3N3 Canada;X-APPLE-RADIUS=500;X-TITLE=1010\, rue Fairmount:geo:-71.902319,45.390887
END:VEVENT
BEGIN:VEVENT
DTSTART;TZID=America/New_York:20250216T140000
DTEND;TZID=America/New_York:20250216T170000
DTSTAMP:20260425T225742
CREATED:20241211T211451Z
LAST-MODIFIED:20241211T211527Z
UID:10000444-1739714400-1739725200@loisirsherbrooke.com
SUMMARY:2 à 5 en famille – quilles gratuites
DESCRIPTION:
URL:https://loisirsherbrooke.com/activite/2a5-16-fev-2025/
LOCATION:Centre Multi Loisirs Sherbrooke\, 1010\, rue Fairmount\, Sherbrooke\, Québec\, J1H 3N3\, Canada
GEO:45.390887;-71.902319
X-APPLE-STRUCTURED-LOCATION;VALUE=URI;X-ADDRESS=Centre Multi Loisirs Sherbrooke 1010 rue Fairmount Sherbrooke Québec J1H 3N3 Canada;X-APPLE-RADIUS=500;X-TITLE=1010\, rue Fairmount:geo:-71.902319,45.390887
END:VEVENT
END:VCALENDAR